BEGIN:VCALENDAR
VERSION:2.0
PRODID:SchoolNow
CALSCALE:GREGORIAN
BEGIN:VEVENT
UID:f1b0c712-eba2-11e9-9ee9-0ad8ff617f0d
DTSTAMP:20191010T211646Z
SUMMARY:School Board Meeting
LOCATION:District Office
URL;VALUE=URI:https://www.buttefalls.k12.or.us/calendar/2118916/school-boar
 d-meeting
DTSTART:20191015T010000Z
DTEND:20191015T030000Z
ATTACH;FILENAME=10.14.19 board agenda 2.pdf;FMTTYPE=application/pdf:https:/
 /campussuite-storage.s3.amazonaws.com/prod/1558654/d951bc9a-41ce-11e9-b400
 -0a93869e836c/1996409/ba2b5ff0-eba2-11e9-8928-126700ff162c/file/10.14.19 b
 oard agenda 2.pdf
END:VEVENT
END:VCALENDAR
