BEGIN:VCALENDAR
VERSION:2.0
PRODID:SchoolNow
CALSCALE:GREGORIAN
BEGIN:VEVENT
UID:a091fd92-2acf-11ec-8385-021fd44bbbe3
DTSTAMP:20211011T201535Z
SUMMARY:Elementary Student of the Month
URL;VALUE=URI:https://www.buttefalls.k12.or.us/calendar/2807470/elementary-
 student-of-the-month
DTSTART:20211011T223000Z
DTEND:20211011T230000Z
END:VEVENT
END:VCALENDAR
