BEGIN:VCALENDAR
VERSION:2.0
PRODID:SchoolNow
CALSCALE:GREGORIAN
BEGIN:VEVENT
UID:047dd83e-ea49-11f0-812f-02a0063da721
DTSTAMP:20260422T072008Z
SUMMARY:Make Up Day for Snow Day
URL;VALUE=URI:https://www.buttefalls.k12.or.us/calendar/8828709/make-up-day
 -for-snow-day
DTSTART;VALUE=DATE:20260220
DTEND;VALUE=DATE:20260221
END:VEVENT
END:VCALENDAR
