BEGIN:VCALENDAR
VERSION:2.0
PRODID:SchoolNow
CALSCALE:GREGORIAN
BEGIN:VEVENT
UID:30d81250-167c-11f1-9bb0-0affdb77e1e3
DTSTAMP:20260420T064010Z
SUMMARY:Classified Appreciation Week
URL;VALUE=URI:https://www.buttefalls.k12.or.us/calendar/8885042/classified-
 appreciation-week
DTSTART;VALUE=DATE:20260302
DTEND;VALUE=DATE:20260307
END:VEVENT
END:VCALENDAR
