BEGIN:VCALENDAR
VERSION:2.0
PRODID:SchoolNow
CALSCALE:GREGORIAN
BEGIN:VEVENT
UID:30d815de-167c-11f1-9bf4-0affdb77e1e3
DTSTAMP:20260420T064010Z
SUMMARY:Daylight Saving Time starts
URL;VALUE=URI:https://www.buttefalls.k12.or.us/calendar/8885043/daylight-sa
 ving-time-starts
DTSTART;VALUE=DATE:20260308
DTEND;VALUE=DATE:20260309
END:VEVENT
END:VCALENDAR
