BEGIN:VCALENDAR
VERSION:2.0
PRODID:SchoolNow
CALSCALE:GREGORIAN
BEGIN:VEVENT
UID:30d81cf0-167c-11f1-b954-0affdb77e1e3
DTSTAMP:20260420T064010Z
SUMMARY:Parent Group Meeting
LOCATION:Elementary School
URL;VALUE=URI:https://www.buttefalls.k12.or.us/calendar/8885049/parent-grou
 p-meeting
DTSTART:20260309T233000Z
DTEND:20260310T003000Z
END:VEVENT
END:VCALENDAR
