BEGIN:VCALENDAR
VERSION:2.0
PRODID:SchoolNow
CALSCALE:GREGORIAN
BEGIN:VEVENT
UID:0f5cfe3a-1913-11f1-a93d-02bc0f3a6921
DTSTAMP:20260420T064010Z
SUMMARY:HS Track Practice Start @ 4:10
URL;VALUE=URI:https://www.buttefalls.k12.or.us/calendar/8894990/hs-track-pr
 actice-start-4-10
DTSTART;VALUE=DATE:20260309
DTEND;VALUE=DATE:20260310
END:VEVENT
END:VCALENDAR
