BEGIN:VCALENDAR
VERSION:2.0
PRODID:SchoolNow
CALSCALE:GREGORIAN
BEGIN:VEVENT
UID:3d7c9212-216f-11f1-9c89-0affd3fa7961
DTSTAMP:20260419T122509Z
SUMMARY:MS Track Meet w/Lincoln Savage
URL;VALUE=URI:https://www.buttefalls.k12.or.us/calendar/8922903/ms-track-me
 et-w-lincoln-savage
DTSTART;VALUE=DATE:20260415
DTEND;VALUE=DATE:20260416
END:VEVENT
END:VCALENDAR
