BEGIN:VCALENDAR
VERSION:2.0
PRODID:SchoolNow
CALSCALE:GREGORIAN
BEGIN:VEVENT
UID:3d7c953c-216f-11f1-acb3-0affd3fa7961
DTSTAMP:20260419T122509Z
SUMMARY:MS Track Meet @Spiegelberg Stadium 6 pm
URL;VALUE=URI:https://www.buttefalls.k12.or.us/calendar/8922905/ms-track-me
 et-spiegelberg-stadium-6-pm
DTSTART;VALUE=DATE:20260409
DTEND;VALUE=DATE:20260410
END:VEVENT
END:VCALENDAR
