BEGIN:VCALENDAR
VERSION:2.0
PRODID:SchoolNow
CALSCALE:GREGORIAN
BEGIN:VEVENT
UID:f1ffad14-3920-11f1-ac80-02af097e9185
DTSTAMP:20260420T124507Z
SUMMARY:Teacher Appreciation Week
URL;VALUE=URI:https://www.buttefalls.k12.or.us/calendar/8996548/teacher-app
 reciation-week
DTSTART;VALUE=DATE:20260504
DTEND;VALUE=DATE:20260509
END:VEVENT
END:VCALENDAR
