BEGIN:VCALENDAR
VERSION:2.0
PRODID:SchoolNow
CALSCALE:GREGORIAN
BEGIN:VEVENT
UID:b5fad052-3db5-11f1-9b55-0a58a9feac02
DTSTAMP:20260422T132507Z
SUMMARY:Parent Group Meeting
LOCATION:Butte Falls Library\, 626 Fir Ave\, Butte Falls\, OR 97522\, USA
URL;VALUE=URI:https://www.buttefalls.k12.or.us/calendar/9009666/parent-grou
 p-meeting
DTSTART:20260501T000000Z
DTEND:20260501T010000Z
END:VEVENT
END:VCALENDAR
